BEGIN:VCALENDAR
VERSION:2.0
PRODID:-//Orchester Hohnerklang aus Trossingen - ECPv6.15.20//NONSGML v1.0//EN
CALSCALE:GREGORIAN
METHOD:PUBLISH
X-WR-CALNAME:Orchester Hohnerklang aus Trossingen
X-ORIGINAL-URL:https://hohnerklang.de
X-WR-CALDESC:Veranstaltungen für Orchester Hohnerklang aus Trossingen
REFRESH-INTERVAL;VALUE=DURATION:PT1H
X-Robots-Tag:noindex
X-PUBLISHED-TTL:PT1H
BEGIN:VTIMEZONE
TZID:Europe/Berlin
BEGIN:DAYLIGHT
TZOFFSETFROM:+0100
TZOFFSETTO:+0200
TZNAME:CEST
DTSTART:20250330T010000
END:DAYLIGHT
BEGIN:STANDARD
TZOFFSETFROM:+0200
TZOFFSETTO:+0100
TZNAME:CET
DTSTART:20251026T010000
END:STANDARD
BEGIN:DAYLIGHT
TZOFFSETFROM:+0100
TZOFFSETTO:+0200
TZNAME:CEST
DTSTART:20260329T010000
END:DAYLIGHT
BEGIN:STANDARD
TZOFFSETFROM:+0200
TZOFFSETTO:+0100
TZNAME:CET
DTSTART:20261025T010000
END:STANDARD
BEGIN:DAYLIGHT
TZOFFSETFROM:+0100
TZOFFSETTO:+0200
TZNAME:CEST
DTSTART:20270328T010000
END:DAYLIGHT
BEGIN:STANDARD
TZOFFSETFROM:+0200
TZOFFSETTO:+0100
TZNAME:CET
DTSTART:20271031T010000
END:STANDARD
END:VTIMEZONE
BEGIN:VEVENT
DTSTART;TZID=Europe/Berlin:20260614T000000
DTEND;TZID=Europe/Berlin:20260614T235959
DTSTAMP:20260423T123006
CREATED:20260126T231712Z
LAST-MODIFIED:20260324T234145Z
UID:1601-1781395200-1781481599@hohnerklang.de
SUMMARY:Tag der offenen Tür Freiwillige Feuerwehr Trossingen
DESCRIPTION:Am Tag der offenen Tür der Freiwilligen Feuerwehr Trossingen spielen das Schülerorchester des Orchester Hohnerklang zur Unterhaltung bei spannenden Einblicken rund um die Feuerwehrarbeit.
URL:https://hohnerklang.de/termine/tag-der-offenen-tuer-freiwillige-feuerwehr-trossingen/
LOCATION:Feuerwehr Trossingen\, Hürstenstraße 2\, Trossingen\, 78647\, Germany
CATEGORIES:Konzerte,Schülerorchester-Konzert
END:VEVENT
BEGIN:VEVENT
DTSTART;TZID=Europe/Berlin:20260628T000000
DTEND;TZID=Europe/Berlin:20260628T235959
DTSTAMP:20260423T123006
CREATED:20251221T160200Z
LAST-MODIFIED:20260126T230549Z
UID:1275-1782604800-1782691199@hohnerklang.de
SUMMARY:Park Food Festival Trossingen
DESCRIPTION:Freuen Sie sich auf das Trossinger Park Food Festival 2026 mit gutem Essen\, buntem Programm und unterhaltsamer Musik – auch durch das Orchester Hohnerklang.
URL:https://hohnerklang.de/termine/parkfoodfestival-trossingen-2026/
LOCATION:Stadtpark Trossingen (Hans-Neipp-Anlage)\, Lindenstraße 10\, Trossingen\, Baden-Württemberg\, 78647\, Germany
CATEGORIES:Event,Hohnerklang-Konzert,Konzerte
ATTACH;FMTTYPE=image/jpeg:https://hohnerklang.de/files/Park-Food-Festival-Trossingen.jpg
ORGANIZER;CN="EventGastro Trossingen":MAILTO:info@eventgastro-trossingen.de
END:VEVENT
END:VCALENDAR