BEGIN:VCALENDAR
VERSION:2.0
PRODID:-//Orchester Hohnerklang aus Trossingen - ECPv6.15.20//NONSGML v1.0//EN
CALSCALE:GREGORIAN
METHOD:PUBLISH
X-WR-CALNAME:Orchester Hohnerklang aus Trossingen
X-ORIGINAL-URL:https://hohnerklang.de
X-WR-CALDESC:Veranstaltungen für Orchester Hohnerklang aus Trossingen
REFRESH-INTERVAL;VALUE=DURATION:PT1H
X-Robots-Tag:noindex
X-PUBLISHED-TTL:PT1H
BEGIN:VTIMEZONE
TZID:Europe/Berlin
BEGIN:DAYLIGHT
TZOFFSETFROM:+0100
TZOFFSETTO:+0200
TZNAME:CEST
DTSTART:20250330T010000
END:DAYLIGHT
BEGIN:STANDARD
TZOFFSETFROM:+0200
TZOFFSETTO:+0100
TZNAME:CET
DTSTART:20251026T010000
END:STANDARD
BEGIN:DAYLIGHT
TZOFFSETFROM:+0100
TZOFFSETTO:+0200
TZNAME:CEST
DTSTART:20260329T010000
END:DAYLIGHT
BEGIN:STANDARD
TZOFFSETFROM:+0200
TZOFFSETTO:+0100
TZNAME:CET
DTSTART:20261025T010000
END:STANDARD
BEGIN:DAYLIGHT
TZOFFSETFROM:+0100
TZOFFSETTO:+0200
TZNAME:CEST
DTSTART:20270328T010000
END:DAYLIGHT
BEGIN:STANDARD
TZOFFSETFROM:+0200
TZOFFSETTO:+0100
TZNAME:CET
DTSTART:20271031T010000
END:STANDARD
END:VTIMEZONE
BEGIN:VEVENT
DTSTART;TZID=Europe/Berlin:20261121T190000
DTEND;TZID=Europe/Berlin:20261121T220000
DTSTAMP:20260423T172225
CREATED:20251221T160142Z
LAST-MODIFIED:20260308T194817Z
UID:1277-1795287600-1795298400@hohnerklang.de
SUMMARY:Gala-Konzert in Trossingen
DESCRIPTION:Tauchen Sie ein in die Welt der Musik bei der Hohnerklang Gala 2026 am 21. November im Konzerthaus in Trossingen! Unter der musikalischen Leitung von Hans-Günther Kölz erwartet Sie ein unvergesslicher Abend voller klangvoller Melodien und mitreißender Rhythmen.
URL:https://hohnerklang.de/termine/gala-konzert-2026/
LOCATION:Dr.-Ernst-Hohner-Konzerthaus Trossingen\, Hangenstraße 50\, Trossingen\, Baden-Württemberg\, 78647\, Germany
CATEGORIES:Hohnerklang-Konzert,Jugendorchester-Konzert,Konzerte,Schülerorchester-Konzert
ORGANIZER;CN="1. Trossinger Mundharmonika-Verein Orchester Hohnerklang 1932 e.V.":MAILTO:tickets@hohnerklang.de
END:VEVENT
END:VCALENDAR